BEGIN:VCALENDAR
VERSION:2.0
PRODID:-//Welcome to the Music City Mopar Club - ECPv6.15.17.1//NONSGML v1.0//EN
CALSCALE:GREGORIAN
METHOD:PUBLISH
X-WR-CALNAME:Welcome to the Music City Mopar Club
X-ORIGINAL-URL:https://musiccitymoparclub.com
X-WR-CALDESC:Events for Welcome to the Music City Mopar Club
REFRESH-INTERVAL;VALUE=DURATION:PT1H
X-Robots-Tag:noindex
X-PUBLISHED-TTL:PT1H
BEGIN:VTIMEZONE
TZID:America/Chicago
BEGIN:DAYLIGHT
TZOFFSETFROM:-0600
TZOFFSETTO:-0500
TZNAME:CDT
DTSTART:20250309T080000
END:DAYLIGHT
BEGIN:STANDARD
TZOFFSETFROM:-0500
TZOFFSETTO:-0600
TZNAME:CST
DTSTART:20251102T070000
END:STANDARD
BEGIN:DAYLIGHT
TZOFFSETFROM:-0600
TZOFFSETTO:-0500
TZNAME:CDT
DTSTART:20260308T080000
END:DAYLIGHT
BEGIN:STANDARD
TZOFFSETFROM:-0500
TZOFFSETTO:-0600
TZNAME:CST
DTSTART:20261101T070000
END:STANDARD
BEGIN:DAYLIGHT
TZOFFSETFROM:-0600
TZOFFSETTO:-0500
TZNAME:CDT
DTSTART:20270314T080000
END:DAYLIGHT
BEGIN:STANDARD
TZOFFSETFROM:-0500
TZOFFSETTO:-0600
TZNAME:CST
DTSTART:20271107T070000
END:STANDARD
END:VTIMEZONE
BEGIN:VEVENT
DTSTART;TZID=America/Chicago:20260322T130000
DTEND;TZID=America/Chicago:20260322T153000
DTSTAMP:20260423T122038
CREATED:20260308T185202Z
LAST-MODIFIED:20260308T185202Z
UID:8364-1774184400-1774193400@musiccitymoparclub.com
SUMMARY:March Club Meeting - Sunday\, March 22\, 2026
DESCRIPTION:The March meeting will begin at 1 pm on March 22nd with the chili cookoff. The club will provide the fixings and drinks. We need members that do not bring chili to bring a dessert.
URL:https://musiccitymoparclub.com/event/march-club-meeting-sunday-march-22-2026/
LOCATION:AACA Building\, Wilson County Fairgrounds\, Lebanon\, TN\, United States
END:VEVENT
BEGIN:VEVENT
DTSTART;VALUE=DATE:20260327
DTEND;VALUE=DATE:20260329
DTSTAMP:20260423T122038
CREATED:20260322T224512Z
LAST-MODIFIED:20260325T045042Z
UID:8449-1774569600-1774742399@musiccitymoparclub.com
SUMMARY:New Orleans Mopar Show - March 27-28\, 2026 - Kenner\, LA
DESCRIPTION: 
URL:https://musiccitymoparclub.com/event/new-orleans-mopar-show-march-27-28-2026-kenner-la/
LOCATION:BEMA\, 5501 Williams Blvd\, Kenner\, LA\, 70065\, United States
END:VEVENT
END:VCALENDAR