BEGIN:VCALENDAR
VERSION:2.0
PRODID:-//Welcome to the Music City Mopar Club - ECPv6.15.17.1//NONSGML v1.0//EN
CALSCALE:GREGORIAN
METHOD:PUBLISH
X-ORIGINAL-URL:https://musiccitymoparclub.com
X-WR-CALDESC:Events for Welcome to the Music City Mopar Club
REFRESH-INTERVAL;VALUE=DURATION:PT1H
X-Robots-Tag:noindex
X-PUBLISHED-TTL:PT1H
BEGIN:VTIMEZONE
TZID:America/Chicago
BEGIN:DAYLIGHT
TZOFFSETFROM:-0600
TZOFFSETTO:-0500
TZNAME:CDT
DTSTART:20240310T080000
END:DAYLIGHT
BEGIN:STANDARD
TZOFFSETFROM:-0500
TZOFFSETTO:-0600
TZNAME:CST
DTSTART:20241103T070000
END:STANDARD
BEGIN:DAYLIGHT
TZOFFSETFROM:-0600
TZOFFSETTO:-0500
TZNAME:CDT
DTSTART:20250309T080000
END:DAYLIGHT
BEGIN:STANDARD
TZOFFSETFROM:-0500
TZOFFSETTO:-0600
TZNAME:CST
DTSTART:20251102T070000
END:STANDARD
BEGIN:DAYLIGHT
TZOFFSETFROM:-0600
TZOFFSETTO:-0500
TZNAME:CDT
DTSTART:20260308T080000
END:DAYLIGHT
BEGIN:STANDARD
TZOFFSETFROM:-0500
TZOFFSETTO:-0600
TZNAME:CST
DTSTART:20261101T070000
END:STANDARD
END:VTIMEZONE
BEGIN:VEVENT
DTSTART;TZID=America/Chicago:20251213T123000
DTEND;TZID=America/Chicago:20251213T150000
DTSTAMP:20260423T171407
CREATED:20251209T132357Z
LAST-MODIFIED:20251209T132357Z
UID:8318-1765629000-1765638000@musiccitymoparclub.com
SUMMARY:December Club Meeting- December 13\, 2025
DESCRIPTION:The December meeting will begin at 12:30 pm on December 13th with the meal of brisket and sides along with desserts provided by members. The meeting will include a vote on the officers who were nominated at the October meeting. We will also vote on whether we want to work the GoodGuys car show in 2026.
URL:https://musiccitymoparclub.com/event/december-club-meeting-december-13-2025/
LOCATION:AACA Building\, Wilson County Fairgrounds\, Lebanon\, TN\, United States
END:VEVENT
END:VCALENDAR