BEGIN:VCALENDAR
VERSION:2.0
PRODID:-//Welcome to the Music City Mopar Club - ECPv6.15.17.1//NONSGML v1.0//EN
CALSCALE:GREGORIAN
METHOD:PUBLISH
X-WR-CALNAME:Welcome to the Music City Mopar Club
X-ORIGINAL-URL:https://musiccitymoparclub.com
X-WR-CALDESC:Events for Welcome to the Music City Mopar Club
REFRESH-INTERVAL;VALUE=DURATION:PT1H
X-Robots-Tag:noindex
X-PUBLISHED-TTL:PT1H
BEGIN:VTIMEZONE
TZID:America/Chicago
BEGIN:DAYLIGHT
TZOFFSETFROM:-0600
TZOFFSETTO:-0500
TZNAME:CDT
DTSTART:20210314T080000
END:DAYLIGHT
BEGIN:STANDARD
TZOFFSETFROM:-0500
TZOFFSETTO:-0600
TZNAME:CST
DTSTART:20211107T070000
END:STANDARD
BEGIN:DAYLIGHT
TZOFFSETFROM:-0600
TZOFFSETTO:-0500
TZNAME:CDT
DTSTART:20220313T080000
END:DAYLIGHT
BEGIN:STANDARD
TZOFFSETFROM:-0500
TZOFFSETTO:-0600
TZNAME:CST
DTSTART:20221106T070000
END:STANDARD
BEGIN:DAYLIGHT
TZOFFSETFROM:-0600
TZOFFSETTO:-0500
TZNAME:CDT
DTSTART:20230312T080000
END:DAYLIGHT
BEGIN:STANDARD
TZOFFSETFROM:-0500
TZOFFSETTO:-0600
TZNAME:CST
DTSTART:20231105T070000
END:STANDARD
END:VTIMEZONE
BEGIN:VEVENT
DTSTART;TZID=America/Chicago:20220326T090000
DTEND;TZID=America/Chicago:20220326T180000
DTSTAMP:20260424T092739
CREATED:20220527T175312Z
LAST-MODIFIED:20220527T175312Z
UID:4861-1648285200-1648317600@musiccitymoparclub.com
SUMMARY:Saturday\, March 26\, 2022 – March Club Meeting – Columbia\, TN
DESCRIPTION:March’s club meeting will be at Johnson’s Horsepowered Garage\, 3672 Talley Moore Rd\, Columbia\, TN 38401 on Saturday 9 AM – Noon. The actual club meeting will be at 10 AM. Bring your own lawn chairs for the meeting.
URL:https://musiccitymoparclub.com/event/saturday-march-26-2022-march-club-meeting-columbia-tn/
LOCATION:TN
END:VEVENT
END:VCALENDAR