BEGIN:VCALENDAR
VERSION:2.0
PRODID:-//Welcome to the Music City Mopar Club - ECPv6.15.17.1//NONSGML v1.0//EN
CALSCALE:GREGORIAN
METHOD:PUBLISH
X-WR-CALNAME:Welcome to the Music City Mopar Club
X-ORIGINAL-URL:https://musiccitymoparclub.com
X-WR-CALDESC:Events for Welcome to the Music City Mopar Club
REFRESH-INTERVAL;VALUE=DURATION:PT1H
X-Robots-Tag:noindex
X-PUBLISHED-TTL:PT1H
BEGIN:VTIMEZONE
TZID:America/Chicago
BEGIN:DAYLIGHT
TZOFFSETFROM:-0600
TZOFFSETTO:-0500
TZNAME:CDT
DTSTART:20210314T080000
END:DAYLIGHT
BEGIN:STANDARD
TZOFFSETFROM:-0500
TZOFFSETTO:-0600
TZNAME:CST
DTSTART:20211107T070000
END:STANDARD
BEGIN:DAYLIGHT
TZOFFSETFROM:-0600
TZOFFSETTO:-0500
TZNAME:CDT
DTSTART:20220313T080000
END:DAYLIGHT
BEGIN:STANDARD
TZOFFSETFROM:-0500
TZOFFSETTO:-0600
TZNAME:CST
DTSTART:20221106T070000
END:STANDARD
BEGIN:DAYLIGHT
TZOFFSETFROM:-0600
TZOFFSETTO:-0500
TZNAME:CDT
DTSTART:20230312T080000
END:DAYLIGHT
BEGIN:STANDARD
TZOFFSETFROM:-0500
TZOFFSETTO:-0600
TZNAME:CST
DTSTART:20231105T070000
END:STANDARD
BEGIN:DAYLIGHT
TZOFFSETFROM:-0600
TZOFFSETTO:-0500
TZNAME:CDT
DTSTART:20240310T080000
END:DAYLIGHT
BEGIN:STANDARD
TZOFFSETFROM:-0500
TZOFFSETTO:-0600
TZNAME:CST
DTSTART:20241103T070000
END:STANDARD
BEGIN:DAYLIGHT
TZOFFSETFROM:-0600
TZOFFSETTO:-0500
TZNAME:CDT
DTSTART:20250309T080000
END:DAYLIGHT
BEGIN:STANDARD
TZOFFSETFROM:-0500
TZOFFSETTO:-0600
TZNAME:CST
DTSTART:20251102T070000
END:STANDARD
END:VTIMEZONE
BEGIN:VEVENT
DTSTART;VALUE=DATE:20240517
DTEND;VALUE=DATE:20240519
DTSTAMP:20260423T185403
CREATED:20240211T222945Z
LAST-MODIFIED:20240211T224858Z
UID:5343-1715904000-1716076799@musiccitymoparclub.com
SUMMARY:Goodguys 18th Nationals - May 17-19\, 2024 - Lebanon\, TN
DESCRIPTION:
URL:https://musiccitymoparclub.com/event/goodguys-18th-nationals-may-17-19-2024-lebanon-tn/
LOCATION:Nashville Super Speedway\, 4847-F McCrary Rd\, Lebanon\, TN\, United States
END:VEVENT
BEGIN:VEVENT
DTSTART;TZID=America/Chicago:20240511T120000
DTEND;TZID=America/Chicago:20240511T150000
DTSTAMP:20260423T185403
CREATED:20240403T021034Z
LAST-MODIFIED:20240403T021034Z
UID:5435-1715428800-1715439600@musiccitymoparclub.com
SUMMARY:Saturday\, May 11\, 2024 – May Club Meeting – Columbia\, TN
DESCRIPTION:May Club Meeting at Donny & Jo Lippard’s home. BBQ and fixings will be served. Meet and greet beginning at noon\, followed by meal at 1 PM and meeting at 2 PM
URL:https://musiccitymoparclub.com/event/saturday-may-11-2024-may-club-meeting-columbia-tn/
LOCATION:Lippard\, 7037 Polk Lane\, Columbia\, TN\, 38401\, United States
END:VEVENT
BEGIN:VEVENT
DTSTART;VALUE=DATE:20240510
DTEND;VALUE=DATE:20240511
DTSTAMP:20260423T185403
CREATED:20230927T023444Z
LAST-MODIFIED:20230927T023627Z
UID:5270-1715299200-1715385599@musiccitymoparclub.com
SUMMARY:May 10th & 11th\, 2024 - 37th Annual Sunshine State Mopar Car Show & Swap Meet\, Ocala\, FL
DESCRIPTION:
URL:https://musiccitymoparclub.com/event/may-10th-11th-2024-37th-annual-sunshine-state-mopar-car-show-swap-meet-ocala-fl/
LOCATION:Florida Agriculture Center & Horse Park\, 11851 SW 16th Ave (CR 475A)\, Ocala\, FL\, United States
END:VEVENT
BEGIN:VEVENT
DTSTART;VALUE=DATE:20240426
DTEND;VALUE=DATE:20240427
DTSTAMP:20260423T185403
CREATED:20230927T022904Z
LAST-MODIFIED:20230927T022904Z
UID:5264-1714089600-1714175999@musiccitymoparclub.com
SUMMARY:April 26th & 27th\, 2024\, MoparFest at the Battleship\, Mobile\, AL
DESCRIPTION:
URL:https://musiccitymoparclub.com/event/april-26th-27th-2024-moparfest-at-the-battleship-mobile-al/
LOCATION:Battleship Park\, 2701 Battleship Parkway\, Mobile\, AL\, United States
END:VEVENT
BEGIN:VEVENT
DTSTART;TZID=America/Chicago:20240420T070000
DTEND;TZID=America/Chicago:20240420T140000
DTSTAMP:20260423T185403
CREATED:20240211T220437Z
LAST-MODIFIED:20240322T201912Z
UID:5340-1713596400-1713621600@musiccitymoparclub.com
SUMMARY:24th Annual KARS4KIDS Show - Saturday\, April 20\, 2024 - Brentwood\, TN
DESCRIPTION:Registration – 7AM to 11. AM Pancake Breakfast 7AM – 11:30AM\n\nThe 24th Annual KARS4KIDS Show \nopen to all cars\, trucks\, bicycles and motorcycles.  \nSHOW LOCATION FOR 2024 \nBrentwood High School\, 5304 Murray Lane in Brentwood\, TN. \nShow will be held in conjunction with the \nRotary Club of Brentwood’s 41st Annual Pancake Breakfast\, \nwhich is “by donation only” starting at 7 am to 11:30 am. \nKARS4KIDS Show registration on-site for $20 per vehicle from 7 am to 11 am.  \nTOP 30 People’s Choice\, Best of Show and other specialty awards presented by Noon.  \nSilent Auction!  \nRain or shine with plenty of designated car show paved parking.  \n100% of the car show and Silent Auction proceeds\, \nand a grant from the Rotary Club of Brentwood\, \nwill fund the \nTennessee Baptist Children’s Homes Summer Activities Program \nat the Brentwood campus. \nPlease come out and support the kids!
URL:https://musiccitymoparclub.com/event/24th-annual-kars4kids-show-saturday-april-20-2024-brentwood-tn/
LOCATION:TN
END:VEVENT
BEGIN:VEVENT
DTSTART;TZID=America/Chicago:20240324T130000
DTEND;TZID=America/Chicago:20240324T150000
DTSTAMP:20260423T185403
CREATED:20240322T200441Z
LAST-MODIFIED:20240322T200527Z
UID:5422-1711285200-1711292400@musiccitymoparclub.com
SUMMARY:Sunday\, March 24\, 2024 – March Club Meeting – Lebanon\, TN
DESCRIPTION:March 24 meeting and Chili cookoff. I have invited the\nPresident of the A.A.C.A. to join us. He will be bringing a pot of chili and joining in the\ncontest. (Did I mention First place will pay $100.00.) He has also volunteered the use of\ntheir club house for our meeting. It is at the Wilson County fairgrounds and will take place\nat 1:00. The best way to get to the clubhouse is to enter the fairgrounds from the North\nentrance off Tennessee Boulevard. After you pass the white fenced area turn left. Go passed\nthe Quonset Hut on you right and you will see the clubhouse on your right. Do not enter the\nmain entrance. You can get to the clubhouse\, but it is much more complicated from there.
URL:https://musiccitymoparclub.com/event/sunday-march-24-2024-march-club-meeting-nashville-tn/
LOCATION:AACA Building\, Wilson County Fairgrounds\, Lebanon\, TN\, United States
END:VEVENT
BEGIN:VEVENT
DTSTART;VALUE=DATE:20240308
DTEND;VALUE=DATE:20240309
DTSTAMP:20260423T185403
CREATED:20230927T021443Z
LAST-MODIFIED:20230927T025414Z
UID:5259-1709856000-1709942399@musiccitymoparclub.com
SUMMARY:March 8th & 9th\, 2024 - 23rd New Orleans Mopar Show
DESCRIPTION:
URL:https://musiccitymoparclub.com/event/march-8th-9th-2024-23rd-new-orleans-mopar-show/
LOCATION:Fred Sigur Civic Center\, 8245 W. Judge Perez Dr\, Chalmette\, LA\, United States
END:VEVENT
BEGIN:VEVENT
DTSTART;TZID=America/Chicago:20240225T070000
DTEND;TZID=America/Chicago:20240225T090000
DTSTAMP:20260423T185403
CREATED:20240211T224436Z
LAST-MODIFIED:20240211T224503Z
UID:5351-1708844400-1708851600@musiccitymoparclub.com
SUMMARY:Sunday\, February 25\, 2023 – February Club Meeting – Antioch\, TN
DESCRIPTION:Our February meeting will be held at our main Dealership sponsor Freeland CDJR February\n25. Meet and greet at 1:00 followed by meeting at 2:00pm. 5800 Crossings Blvd. Antioch\, TN 37013.
URL:https://musiccitymoparclub.com/event/sunday-february-25-2023-february-club-meeting-antioch-tn/
LOCATION:Freeland\, 5800 Crossings Blvd\, Antioch\, TN\, 37013\, United States
END:VEVENT
BEGIN:VEVENT
DTSTART;TZID=America/Chicago:20240128T063000
DTEND;TZID=America/Chicago:20240128T090000
DTSTAMP:20260423T185403
CREATED:20240112T030452Z
LAST-MODIFIED:20240112T030916Z
UID:5310-1706423400-1706432400@musiccitymoparclub.com
SUMMARY:January 28\, 2024 - Club Meeting
DESCRIPTION:The January Club Meeting will be Sunday 01-28-2024.  Meet & Greet begins at 12:30 with the meeting following at 2:00. \nLocation: Cock of the walk\nDirections from Briley Pkwy: Exit 12 to the left\, Turn right onto Music Valley Dr. Look for all the Mopar’s.\nPhone:(615) 889-1930\nWebsite:www.cockofthewalkrestaurant.com
URL:https://musiccitymoparclub.com/event/january-club-meeting/
LOCATION:Cock of the Walk\, 2624 Music Valley Drive\, Nashville\, TN\, 37214\, United States
END:VEVENT
BEGIN:VEVENT
DTSTART;VALUE=DATE:20231027
DTEND;VALUE=DATE:20231029
DTSTAMP:20260423T185403
CREATED:20230927T020737Z
LAST-MODIFIED:20230927T024924Z
UID:5255-1698364800-1698537599@musiccitymoparclub.com
SUMMARY:October 27-28\, 2023 - Heritage Preservation Event - Talladega\, AL
DESCRIPTION:
URL:https://musiccitymoparclub.com/event/october-27-28-2023-heritage-preservation-event-talladega-al/
LOCATION:International Motorsports Hall Of Fame\, Talladega\, AL\, United States
END:VEVENT
BEGIN:VEVENT
DTSTART;TZID=America/Chicago:20231022T073000
DTEND;TZID=America/Chicago:20231022T100000
DTSTAMP:20260423T185403
CREATED:20231015T155011Z
LAST-MODIFIED:20231015T155336Z
UID:5287-1697959800-1697968800@musiccitymoparclub.com
SUMMARY:October Club Meeting - October 22\, 2023 - Nolensville\, TN
DESCRIPTION:Martin’s Bar-B-Que\, 7223 Nolensville\, Road\, Unit C Nolensville\, Tn.\nWith food at 12:30 and our meeting at 2:00pm
URL:https://musiccitymoparclub.com/event/october-club-meeting-october-22-2023-nolensville-tn/
LOCATION:Martin’s Bar-B-Que\, 7223 Nolensville\, Road\, Unit C\, Nolensville\, TN\, United States
END:VEVENT
BEGIN:VEVENT
DTSTART;TZID=America/Chicago:20230923T030000
DTEND;TZID=America/Chicago:20230923T110000
DTSTAMP:20260423T185403
CREATED:20230417T122012Z
LAST-MODIFIED:20230417T135021Z
UID:5172-1695438000-1695466800@musiccitymoparclub.com
SUMMARY:Saturday\, September 23\, 2023 - Lebanon\, TN
DESCRIPTION:34th Annual Show: All Mopar Muscle Cars\, Trucks & SUVs Welcome. Saturday September 23\, 2923. Judged One Day Show (Rain or Shine) Wilson County Fairgrounds / 1033 Sparta Pike / Lebanon\, Tennessee 37087 Show Car Entry Fee: $25.00 or VIM Entry Package* {$100} *VIM (Very Important Mopar): Includes Special Covered Display Parking\, T-Shirt\, Show Registration and Commemorative Plaque\, all for $100.
URL:https://musiccitymoparclub.com/event/saturday-september-23-2023-lebanon-tn/
LOCATION:Show Site\, 1033 Sparta Pike\, Lebanon\, TN\, 37087
END:VEVENT
BEGIN:VEVENT
DTSTART;TZID=America/Chicago:20230826T050000
DTEND;TZID=America/Chicago:20230826T070000
DTSTAMP:20260423T185403
CREATED:20230807T114023Z
LAST-MODIFIED:20230808T005234Z
UID:5215-1693026000-1693033200@musiccitymoparclub.com
SUMMARY:August Club Meeting - August 26\, 2023 - Smyrna\, TN
DESCRIPTION:We will be meeting at the Gateway Classic Cars (704 Swan Dr\, Smyrna\, TN 37167) for our August meeting at their monthly “Caffeine and Chrome” event. It is on Saturday\, August 26th at 10:00am. That is a big change from our normal meeting day and time. Michael Davenport our contact at Gateway invited us to attend this special day to support their “Cause for Paws” event.  Any money that is donated will go to our local animal shelters. So\, if you love cars and animals come bring your car\, your dog\, and attend our August meeting that will be held on site with free pastries and drinks. All the guys at Gateway are very good hosts and they love seeing our beloved Mopars. It is always good to see the cars in their massive showroom\, even if only a few of them are Mopars.
URL:https://musiccitymoparclub.com/event/august-club-meeting-august-26-2023-smyrna-tn/
LOCATION:Gateway Classic Cars\, 704 Swan Dr\, Smyrna\, TN\, 37167\, United States
END:VEVENT
BEGIN:VEVENT
DTSTART;TZID=America/Chicago:20230723T080000
DTEND;TZID=America/Chicago:20230723T110000
DTSTAMP:20260423T185403
CREATED:20230712T143619Z
LAST-MODIFIED:20230712T143754Z
UID:5199-1690099200-1690110000@musiccitymoparclub.com
SUMMARY:Sunday\, July 23\, 2023 – July Club Meeting – Lebanon\, TN
DESCRIPTION:The July 23rd meeting and “Homemade Dessert” will take place at the AACA Club house on the Wilson County Fairgrounds property. Meet and greet at 1:00 PM followed by the official meeting at 2:00. The best way to get to the clubhouse is to enter the fairgrounds from the North entrance off Tennessee Boulevard. After you pass the white fenced area turn left. Go passed the Quonset Hut on you right and you will see the clubhouse on your right.
URL:https://musiccitymoparclub.com/event/sunday-july-23-2023-july-club-meeting-lebanon-tn/
LOCATION:AACA Building\, Wilson County Fairgrounds\, Lebanon\, TN\, United States
END:VEVENT
BEGIN:VEVENT
DTSTART;TZID=America/Chicago:20230610T030000
DTEND;TZID=America/Chicago:20230610T100000
DTSTAMP:20260423T185403
CREATED:20230415T224253Z
LAST-MODIFIED:20230415T225333Z
UID:5160-1686366000-1686391200@musiccitymoparclub.com
SUMMARY:Saturday\, June 10\, 2023 - Cullman\, AL
DESCRIPTION:
URL:https://musiccitymoparclub.com/event/saturday-june-10-2023-cullman-al/
LOCATION:Mopars by the Lake\, 1544 Sportsman Lake SW\, Cullman\, AL\, 35055
END:VEVENT
BEGIN:VEVENT
DTSTART;TZID=America/Chicago:20230326T080000
DTEND;TZID=America/Chicago:20230326T110000
DTSTAMP:20260423T185403
CREATED:20230310T022003Z
LAST-MODIFIED:20230310T022359Z
UID:5151-1679817600-1679828400@musiccitymoparclub.com
SUMMARY:Sunday\, March 26\, 2023 – March Club Meeting – Lebanon\, TN
DESCRIPTION:The March 26 meeting and Chili cookoff will take place at 1:00 at the AACA Club house on the Wilson County Fairgrounds property. The best way to get to the clubhouse is to enter the fairgrounds from the North entrance off Tennessee Boulevard. After you pass the white fenced area turn left. Go passed the Quonset Hut on you right and you will see the clubhouse on your right.
URL:https://musiccitymoparclub.com/event/sunday-march-26-2023-march-club-meeting-lebanon-tn/
LOCATION:AACA Building\, Wilson County Fairgrounds\, Lebanon\, TN\, United States
END:VEVENT
BEGIN:VEVENT
DTSTART;VALUE=DATE:20230318
DTEND;VALUE=DATE:20230319
DTSTAMP:20260423T185403
CREATED:20230207T171714Z
LAST-MODIFIED:20230207T171922Z
UID:5142-1679097600-1679183999@musiccitymoparclub.com
SUMMARY:Saturday\, March 18\, 2023 - 13th Annual All Mopar Car Show - Inverness\, Fl
DESCRIPTION:Our 13th Annual All Mopar Car Show and Swap meet will be held on Saturday\, March 18\, 2023 at Wallace Brooks Park\, 328 E Dampier St\, Inverness\, Fl-on beautiful Lake Henderson. The show will be hosted by the Citrus MOPARS car club and Plaza Chrysler Dodge Jeep. Lots of awards based on a judging process will be presented around 2 PM (bring a fire extinguisher for extra score). Join us for good music\, food\, door prizes and great cars. Pre-registration is $15 (see attached Flyer/Registration form).  Registration at the show will be $20 from 8 to 10 AM .  Display only cars (not judged) will be $10. For more info call\, Ken McNally at 352-249-7225\, Mike Bonadonna at 352-341-1019.
URL:https://musiccitymoparclub.com/event/13th-annual-all-mopar-car-show-saturday-march-18-2023-inverness-fl/
LOCATION:TN
END:VEVENT
BEGIN:VEVENT
DTSTART;TZID=America/Chicago:20230226T080000
DTEND;TZID=America/Chicago:20230226T100000
DTSTAMP:20260423T185403
CREATED:20230206T162937Z
LAST-MODIFIED:20230206T163608Z
UID:5133-1677398400-1677405600@musiccitymoparclub.com
SUMMARY:Sunday\, February 26\, 2023 – February Club Meeting – Nashville\, TN
DESCRIPTION:The February 26 th meeting. We have the room from 12:30 – 3:00. Our Official business\nmeeting for those who choose not to eat will begin at 2:00pm. The address is:\nCock of the Walk\n2624 Music Valley Drive\, Nashville\, TN 37214.\nThis is our bylaws meeting and we have a proposed change to\nadd to the bylaws and we will need to vote on it.
URL:https://musiccitymoparclub.com/event/sunday-february-26-2023-february-club-meeting-nashville-tn/
LOCATION:Cock of the Walk\, 2624 Music Valley Drive\, Nashville\, TN\, 37214\, United States
END:VEVENT
BEGIN:VEVENT
DTSTART;TZID=America/Chicago:20230122T070000
DTEND;TZID=America/Chicago:20230122T090000
DTSTAMP:20260423T185403
CREATED:20230118T060434Z
LAST-MODIFIED:20230118T062115Z
UID:5103-1674370800-1674378000@musiccitymoparclub.com
SUMMARY:Sunday\, January 22\, 2023 – June Club Meeting – Smyrna\, TN
DESCRIPTION:January Meeting – Smyrna\, TN\nJim and Nick’s BBQ restaurant at 523 Sam Ridley Pkwy W\, Smyrna\, TN on January 22nd. Meet and greet at 1 followed by the meeting at 2PM.
URL:https://musiccitymoparclub.com/event/sunday-january-22-2023-june-club-meeting-smyrna-tn/
LOCATION:TN
END:VEVENT
BEGIN:VEVENT
DTSTART;TZID=America/Chicago:20221204T060000
DTEND;TZID=America/Chicago:20221204T090000
DTSTAMP:20260423T185403
CREATED:20221030T131758Z
LAST-MODIFIED:20221128T170734Z
UID:5046-1670133600-1670144400@musiccitymoparclub.com
SUMMARY:Sunday\, December 4\, 2022 – Club Meeting/Holiday Party – Lebanon\, TN
DESCRIPTION:Combined November-December meeting will be held on Sunday\, December 4th at the Denney’s\, 400 Moccasin Rd\, Lebanon\, TN. Meet and greet before the  holiday meal at 1 PM followed by the meeting around 2 PM.
URL:https://musiccitymoparclub.com/event/saturday-december-4-2022-club-meeting-holiday-party-lebanon-tn/
LOCATION:TN
END:VEVENT
BEGIN:VEVENT
DTSTART;TZID=America/Chicago:20221203T040000
DTEND;TZID=America/Chicago:20221203T080000
DTSTAMP:20260423T185403
CREATED:20221128T164659Z
LAST-MODIFIED:20221128T170333Z
UID:5070-1670040000-1670054400@musiccitymoparclub.com
SUMMARY:Gateway Classic Cars - Holiday Party 2022
DESCRIPTION:Join us at Gateway Classic Cars for their Holiday Party. We will be making our annual club contribution to the Toys for Tots campaign at 11:00.
URL:https://musiccitymoparclub.com/event/gateway-classic-cars-holiday-party-2022/
LOCATION:Gateway Classic Cars\, 704 Swan Dr\, Smyrna\, TN\, 37167\, United States
END:VEVENT
BEGIN:VEVENT
DTSTART;VALUE=DATE:20221111
DTEND;VALUE=DATE:20221112
DTSTAMP:20260423T185403
CREATED:20220908T171959Z
LAST-MODIFIED:20220908T181016Z
UID:4967-1668124800-1668157200@musiccitymoparclub.com
SUMMARY:35th Annual Sunshine State Mopar Car Show
DESCRIPTION:The 35th Annual Sunshine State Mopar Car Show and Swap Meet will be held on November 11 & 12\, 2022 at the Florida Horse Park in Ocala\, Fl
URL:https://musiccitymoparclub.com/event/35th-annual-sunshine-state-mopar-car-show/
LOCATION:TN
END:VEVENT
BEGIN:VEVENT
DTSTART;VALUE=DATE:20221104
DTEND;VALUE=DATE:20221105
DTSTAMP:20260423T185403
CREATED:20220908T172757Z
LAST-MODIFIED:20220908T172853Z
UID:4970-1667520000-1667552400@musiccitymoparclub.com
SUMMARY:THE 2022 MOPARS WITH BIG DADDY
DESCRIPTION:THE 2022 MOPARS WITH BIG DADDY \n \nDon Garlits Museum of Drag Racing 13700 SW 16th Ave\, Ocala\, FL \n2022 will be the 35th year of Mopars with Big Daddy. In 2022 we have chosen Tunnel to Towers as the organization we will be raising money for. So\, the 2022 raffle proceeds will go to helping wounded military personnel and families of fallen first responders.
URL:https://musiccitymoparclub.com/event/the-2022-mopars-with-big-daddy/
LOCATION:Garlits\, Don Garlits Museum of Drag Racing 13700 SW 16th Ave\,\, Ocala\, FL
END:VEVENT
BEGIN:VEVENT
DTSTART;VALUE=DATE:20221023
DTEND;VALUE=DATE:20221024
DTSTAMP:20260423T185403
CREATED:20221012T011005Z
LAST-MODIFIED:20221030T133533Z
UID:4997-1666483200-1666569599@musiccitymoparclub.com
SUMMARY:Sunday\, October 23\,2022 - Club Meeting  - Smyrna\, TN
DESCRIPTION:Our October meeting will be held on Sunday\, October 23rd at Jim ‘N Nicks BBQ\, 523 Sam Ridley Pkwy\, Smyrna\, TN. Food at 1:00 and our meeting at 2.
URL:https://musiccitymoparclub.com/event/sunday-october-232022-club-meeting-smyrna-tn/
LOCATION:TN
END:VEVENT
BEGIN:VEVENT
DTSTART;VALUE=DATE:20221014
DTEND;VALUE=DATE:20221015
DTSTAMP:20260423T185403
CREATED:20220908T180452Z
LAST-MODIFIED:20220908T180614Z
UID:4984-1665705600-1665738000@musiccitymoparclub.com
SUMMARY:IMHOF - Heritage Preservation Weekend
DESCRIPTION:IMHOF – Heritage Preservation Weekend \n \nFRIDAY\, OCTOBER 14TH\nIMHOF HERITAGE PRESERVATION 2022 \nTalladega Superspeedway\, Lincoln \, AL \n• 7am Wellborn Invitees arriving into the Talladega Super Speedway main entry\, track waivers and track registration begins \n • 8am-10am Wellborn Track Session \n•  11AM – 4PM  Dome and Pavilion Car Move in (Wellborn  Guests) \n•  10AM – 4:30PM  Dome and  Pavilion Registration\, including weekend event passes \n•  1PM – 5 PM Spectator Banquet and Weekend event Registration  \n•  5pm-6pm people commute to Big Bills (All registered event Participants ) \n•  6PM – 8PM Big Bills Infield Banquet Experience including \, money tree and Game.  \nSATURDAY\, OCTOBER 15TH\nIMHOF HERITAGE PRESERVATION 2022 \nTalladega Superspeedway\, Talladega\, AL \n (All Track Sessions) \n•7AM The Fun begins!  Cars will be driving in to the Speedway\, signing waivers\, finalizing  registration \, and getting in the proper lanes !! \n• 8AM -12PM IMHOFHP   \nAutomobiles with track tickets/packages will come into The Talladega Super Speedway(main entry) to begin lining up in rows based on your event ticket colors. Cars will go onto the track in announced order by color coding  \n(Show and Shine Participants) \n•  8AM – 12PM Show and Shine Registration\, Track Registration \n•  10AM – 1PM Autograph Signing with the Alabama Gang near the VIP Lounge \n•  9AM – 12PM Money Tree and 50/50 begins \, ends at the beginning of show and shine award Ceremony  with Winners announced \n•  2PM – 3PM Show and Shine Awards \n• 4PM Live music begins \n• 6PM – 8PM Deputy 5 (Live Music Finale) on the stage !!!
URL:https://musiccitymoparclub.com/event/imhof-heritage-preservation-weekend/
LOCATION:TN
END:VEVENT
BEGIN:VEVENT
DTSTART;VALUE=DATE:20221013
DTEND;VALUE=DATE:20221014
DTSTAMP:20260423T185403
CREATED:20220908T173628Z
LAST-MODIFIED:20220908T181733Z
UID:4976-1665619200-1665651600@musiccitymoparclub.com
SUMMARY:MOPARS AT THE MUSEUM
DESCRIPTION:THIS IS AN OPTIONAL DAY PRIOR TO THE HERITAGE PRESERVATION EVENT \nWe are exited to welcome you to the Wellborn Musclecar Museum and the private home of Tim and Pam Wellborn. We have an incredible new event to offer now that we have partnered with The International Motorsports Hall of Fame and The Talladega Super Speedway. \nThe MOPARS AT THE MUSEUM will take place on Thursday\, October 13th at the Wellborn Musclecar Museum and the Wellborn’s home.  It is a celebration of vintage Mopars from 1964-1974.  You must submit your car for approval before purchasing your tickets.  Join us Thursday for a beautiful day in downtown Alexander City. Spend the day at the museum and dine that evening at the home of Tim and Pam Wellborn.  Friday morning we will all convoy to the Talladega Superspeedway and join in the festivities of the International Motorsports Hall of Fame Heritage Preservation Weekend. The Heritage Preservation Event tickets are sold separately. All vintage musclecars from 1964-1974 are welcome to the Wellborn Invitational for the Heritage Preservation Weekend at Dega.  We are inviting only those Mopars participating in the Talladega event to join us at the museum Thursday. \n Be sure to also purchase your tickets for the weekend at Dega.
URL:https://musiccitymoparclub.com/event/mopars-at-the-museum/
LOCATION:TN
END:VEVENT
BEGIN:VEVENT
DTSTART;TZID=America/Chicago:20220924T030000
DTEND;TZID=America/Chicago:20220924T110000
DTSTAMP:20260423T185403
CREATED:20220908T164200Z
LAST-MODIFIED:20220908T181616Z
UID:4957-1663988400-1664017200@musiccitymoparclub.com
SUMMARY:33rd Annual Music City Mopar Club Show
DESCRIPTION:33RD ANNUAL SHOW:   \nALL MOPAR MUSCLE CARS\, TRUCKS & SUVS WELCOME!\nSATURDAY\, SEPTEMBER 24\, 2022     JUDGED ONE DAY SHOW (RAIN OR SHINE)\nWILSON COUNTY FAIRGROUNDS / 1033 SPARTA PIKE / LEBANON\, TENNESSEE 37087\nShow Car Entry Fee: $25.00 or VIM Entry Package* {$100}\n*VIM (Very Important Mopar): Includes Special Covered Display Parking\, T-Shirt\, Show Registration and Commemorative Plaque; all for $100.00 ~ SOLD OUT!
URL:https://musiccitymoparclub.com/event/33rd-annual-music-city-mopar-club-show/
LOCATION:Show Site\, 1033 Sparta Pike\, Lebanon\, TN\, 37087
END:VEVENT
BEGIN:VEVENT
DTSTART;VALUE=DATE:20220916
DTEND;VALUE=DATE:20220919
DTSTAMP:20260423T185403
CREATED:20220908T170842Z
LAST-MODIFIED:20220908T181437Z
UID:4964-1663286400-1663484399@musiccitymoparclub.com
SUMMARY:Holley’s MoParty
DESCRIPTION:Holley’s 3rd annual MoParty™ returns to Beech Bend Raceway this September 16-18\, 2022. Numerous event segments tailored for Mopar enthusiasts abound including autocross\, 3S Challenge\, drag racing and more! Other events like a dyno challenge\, burnout competition and car show will take place\, making this one of the wildest Mopar parties ever held. The event is open to any ride utilizing a Mopar engine\, including AMC. For more information on specific events\, or to make reservations to get in on the fun\, check out the rest of our site! You won’t want to miss Holley’s MoParty!
URL:https://musiccitymoparclub.com/event/holleys-moparty/
LOCATION:Moparty\, 798 Beech Bend Park Rd\,\, Bowling Green\,\, KY
END:VEVENT
BEGIN:VEVENT
DTSTART;TZID=America/Chicago:20220828T140000
DTEND;TZID=America/Chicago:20220828T160000
DTSTAMP:20260423T185403
CREATED:20220713T123845Z
LAST-MODIFIED:20221128T170814Z
UID:4901-1661695200-1661702400@musiccitymoparclub.com
SUMMARY:Sunday\, August 28\, 2022 – August Meeting – Murfreesboro\, TN
DESCRIPTION:Our August meeting will be held on Sunday\, August 28th at Mike and Jo Ann Tanner’s Agriculture Facility located at 3431 Shores Road\, Murfreesboro\, TN 37128. Please do your best to attend these meetings as we finalize details for our show! Meet and Greet at 1 PM followed by the meeting at 2.
URL:https://musiccitymoparclub.com/event/4901/
LOCATION:TN
END:VEVENT
BEGIN:VEVENT
DTSTART;TZID=America/Chicago:20220730T110000
DTEND;TZID=America/Chicago:20220730T110000
DTSTAMP:20260423T185403
CREATED:20220713T122334Z
LAST-MODIFIED:20221128T165321Z
UID:4894-1659178800-1659178800@musiccitymoparclub.com
SUMMARY:Saturday\, July 30\, 2022 – July Club Meeting – Smyrna\, TN
DESCRIPTION:Our July meeting will be held on Saturday July 30th at Gateway Classics Cars “Caffeine and Chrome” on 320 Techpark Dr\, Unit 600\, La Vergne\, TN 37086.  We will have our meet and greet at 10:00am and meeting at 11:00am. Bring those cars and show everyone what a real Mopar looks like! They always supply some great food\, and we can meet in their cool conference room.
URL:https://musiccitymoparclub.com/event/saturday-july-30-2022-june-club-meeting-smyrna-tn/
LOCATION:TN
END:VEVENT
END:VCALENDAR