BEGIN:VCALENDAR
VERSION:2.0
PRODID:-//Welcome to the Music City Mopar Club - ECPv6.15.17.1//NONSGML v1.0//EN
CALSCALE:GREGORIAN
METHOD:PUBLISH
X-WR-CALNAME:Welcome to the Music City Mopar Club
X-ORIGINAL-URL:https://musiccitymoparclub.com
X-WR-CALDESC:Events for Welcome to the Music City Mopar Club
REFRESH-INTERVAL;VALUE=DURATION:PT1H
X-Robots-Tag:noindex
X-PUBLISHED-TTL:PT1H
BEGIN:VTIMEZONE
TZID:America/Chicago
BEGIN:DAYLIGHT
TZOFFSETFROM:-0600
TZOFFSETTO:-0500
TZNAME:CDT
DTSTART:20250309T080000
END:DAYLIGHT
BEGIN:STANDARD
TZOFFSETFROM:-0500
TZOFFSETTO:-0600
TZNAME:CST
DTSTART:20251102T070000
END:STANDARD
BEGIN:DAYLIGHT
TZOFFSETFROM:-0600
TZOFFSETTO:-0500
TZNAME:CDT
DTSTART:20260308T080000
END:DAYLIGHT
BEGIN:STANDARD
TZOFFSETFROM:-0500
TZOFFSETTO:-0600
TZNAME:CST
DTSTART:20261101T070000
END:STANDARD
BEGIN:DAYLIGHT
TZOFFSETFROM:-0600
TZOFFSETTO:-0500
TZNAME:CDT
DTSTART:20270314T080000
END:DAYLIGHT
BEGIN:STANDARD
TZOFFSETFROM:-0500
TZOFFSETTO:-0600
TZNAME:CST
DTSTART:20271107T070000
END:STANDARD
END:VTIMEZONE
BEGIN:VEVENT
DTSTART;TZID=America/Chicago:20260418T070000
DTEND;TZID=America/Chicago:20260418T133000
DTSTAMP:20260423T165736
CREATED:20260322T222324Z
LAST-MODIFIED:20260323T152025Z
UID:8442-1776495600-1776519000@musiccitymoparclub.com
SUMMARY:26th Annual KARS4KIDS Show\, Saturday\, April 18\, 2026 - Brentwood\, TN
DESCRIPTION:The 26th Annual KARS4KIDS Show – open to all cars\, trucks\, bicycles and motorcycles. \nSHOW LOCATION is Brentwood High School\, 5304 Murray Lane in Brentwood\, TN. \nThe show will be held in conjunction with the Rotary Club of Brentwood’s 43rd Annual Pancake Breakfast\,\nwhich is “by donation only” starting at 7 am to 11:30 am. \nKARS4KIDS Show registration on-site for $20 per vehicle from 7 am to 11 am.\nTOP 30 People’s Choice and other specialty awards presented by Noon.\nRain or shine with plenty of paved parking. \n100% of the car show proceeds and a grant from the Rotary Club of Brentwood\nfund the Tennessee Baptist Children’s Homes Summer Activities Program at the Brentwood campus.\nPlease come out and support the kids! \nEvent is presented by The Brentwood Rotary Club and the Music City Antique Automobile Club of America (AACA)\,\nwith trophies provided by O’Reilly Auto Parts. Sponsored by The Williamson Herald and WAKM AM 950. \nFor more information\, please contact Paul Collins at 615-642-5822 or by email at: pcollins@sullivanengineering.com
URL:https://musiccitymoparclub.com/event/26th-annual-kars4kids-show-saturday-april-182026-brentwood-tn/
LOCATION:Brentwood High School\, 5304 Murray Lane\, Brentwood\, TN\, United States
END:VEVENT
BEGIN:VEVENT
DTSTART;VALUE=DATE:20260424
DTEND;VALUE=DATE:20260426
DTSTAMP:20260423T165736
CREATED:20260322T225459Z
LAST-MODIFIED:20260325T045305Z
UID:8456-1776988800-1777161599@musiccitymoparclub.com
SUMMARY:Moparfest at the Battleship\, April 24 & 25\, 2026 - Mobile\, AL
DESCRIPTION:Register Online
URL:https://musiccitymoparclub.com/event/moparfest-at-the-battleship-april-24-25-2026-mobile-al/
LOCATION:Battleship Park\, 2701 Battleship Parkway\, Mobile\, AL\, United States
END:VEVENT
BEGIN:VEVENT
DTSTART;TZID=America/Chicago:20260516T130000
DTEND;TZID=America/Chicago:20260516T150000
DTSTAMP:20260423T165736
CREATED:20260322T215637Z
LAST-MODIFIED:20260322T215947Z
UID:8425-1778936400-1778943600@musiccitymoparclub.com
SUMMARY:April/May Club Meeting - Saturday\, May 16\, 2026
DESCRIPTION:We are combining the April and May meetings due to Easter and the Memorial Day weekend. We will have our annual visit to the Lippard’s home on Saturday May 16th. Jo and Donny will be providing the great brisket and side dishes again this year. Please let them know how many people you will be bringing to the meeting by May 1st. We ask that everyone bring a dessert and your drink of choice. Meet and greet starts at 12:30\, we will eat at 1 and have the meeting at 2.
URL:https://musiccitymoparclub.com/event/april-may-club-meeting-saturday-may-16-2026/
LOCATION:Lippard\, 7037 Polk Lane\, Columbia\, TN\, 38401\, United States
END:VEVENT
BEGIN:VEVENT
DTSTART;VALUE=DATE:20260613
DTEND;VALUE=DATE:20260614
DTSTAMP:20260423T165736
CREATED:20260322T232725Z
LAST-MODIFIED:20260325T042635Z
UID:8469-1781308800-1781395199@musiccitymoparclub.com
SUMMARY:Mopars by the Lake - June 13\, 2026 - Cullman\, AL
DESCRIPTION:
URL:https://musiccitymoparclub.com/event/mopars-by-the-lake-june-13-2026-cullman-al/
LOCATION:Mopars by the Lake\, 1544 Sportsman Lake SW\, Cullman\, AL\, 35055
END:VEVENT
BEGIN:VEVENT
DTSTART;VALUE=DATE:20260627
DTEND;VALUE=DATE:20260628
DTSTAMP:20260423T165736
CREATED:20260322T230744Z
LAST-MODIFIED:20260325T043938Z
UID:8461-1782518400-1782604799@musiccitymoparclub.com
SUMMARY:Fun in the Sun Show - June 27\, 2026 - Knoxville\, TN
DESCRIPTION:Click for 37th Annual Show Flyer \n 
URL:https://musiccitymoparclub.com/event/fun-in-the-sun-show-june-272026-knoxville-tn/
LOCATION:Chilhowee Park Fairgrounds\, 3301 East Magnolia Ave\, Knoxville\, TN\, 37914\, United States
END:VEVENT
BEGIN:VEVENT
DTSTART;VALUE=DATE:20260801
DTEND;VALUE=DATE:20260802
DTSTAMP:20260423T165736
CREATED:20260323T151126Z
LAST-MODIFIED:20260325T044457Z
UID:8478-1785542400-1785628799@musiccitymoparclub.com
SUMMARY:Mopars on the Mountain - August 1\, 2026 - Huntsville\, AL
DESCRIPTION:Click for Club website. \n 
URL:https://musiccitymoparclub.com/event/mopars-on-the-mountain-august-1-2026-huntsville-al/
LOCATION:Monte Sano State Park\, 5105 Nolen Ave SE\, Huntsville\, AL\, 35801-1029\, United States
END:VEVENT
BEGIN:VEVENT
DTSTART;VALUE=DATE:20260926
DTEND;VALUE=DATE:20260927
DTSTAMP:20260423T165736
CREATED:20260323T151800Z
LAST-MODIFIED:20260325T044626Z
UID:8481-1790380800-1790467199@musiccitymoparclub.com
SUMMARY:37th Annual Music City Mopar Club Show - September 26\, 2026 - Lebanon\, TN
DESCRIPTION:Click to register\,
URL:https://musiccitymoparclub.com/event/37th-annual-music-city-mopar-club-show-september-26-2026-lebanon-tn/
LOCATION:Show Site\, 1033 Sparta Pike\, Lebanon\, TN\, 37087
END:VEVENT
BEGIN:VEVENT
DTSTART;VALUE=DATE:20261003
DTEND;VALUE=DATE:20261004
DTSTAMP:20260423T165736
CREATED:20260322T234517Z
LAST-MODIFIED:20260322T234517Z
UID:8471-1790985600-1791071999@musiccitymoparclub.com
SUMMARY:Ardmore Car Show - October 3\, 2026 - Ardmore\, TN
DESCRIPTION:Click for link to site.
URL:https://musiccitymoparclub.com/event/ardmore-car-show-october-3-2026-ardmore-tn/
LOCATION:TN
END:VEVENT
END:VCALENDAR