BEGIN:VCALENDAR
VERSION:2.0
PRODID:-//Welcome to the Music City Mopar Club - ECPv6.15.17.1//NONSGML v1.0//EN
CALSCALE:GREGORIAN
METHOD:PUBLISH
X-ORIGINAL-URL:https://musiccitymoparclub.com
X-WR-CALDESC:Events for Welcome to the Music City Mopar Club
REFRESH-INTERVAL;VALUE=DURATION:PT1H
X-Robots-Tag:noindex
X-PUBLISHED-TTL:PT1H
BEGIN:VTIMEZONE
TZID:America/Chicago
BEGIN:DAYLIGHT
TZOFFSETFROM:-0600
TZOFFSETTO:-0500
TZNAME:CDT
DTSTART:20240310T080000
END:DAYLIGHT
BEGIN:STANDARD
TZOFFSETFROM:-0500
TZOFFSETTO:-0600
TZNAME:CST
DTSTART:20241103T070000
END:STANDARD
BEGIN:DAYLIGHT
TZOFFSETFROM:-0600
TZOFFSETTO:-0500
TZNAME:CDT
DTSTART:20250309T080000
END:DAYLIGHT
BEGIN:STANDARD
TZOFFSETFROM:-0500
TZOFFSETTO:-0600
TZNAME:CST
DTSTART:20251102T070000
END:STANDARD
BEGIN:DAYLIGHT
TZOFFSETFROM:-0600
TZOFFSETTO:-0500
TZNAME:CDT
DTSTART:20260308T080000
END:DAYLIGHT
BEGIN:STANDARD
TZOFFSETFROM:-0500
TZOFFSETTO:-0600
TZNAME:CST
DTSTART:20261101T070000
END:STANDARD
END:VTIMEZONE
BEGIN:VEVENT
DTSTART;TZID=America/Chicago:20251026T130000
DTEND;TZID=America/Chicago:20251026T153000
DTSTAMP:20260423T221712
CREATED:20251008T152903Z
LAST-MODIFIED:20251008T153321Z
UID:8274-1761483600-1761492600@musiccitymoparclub.com
SUMMARY:October Club Meeting- October 26\, 2025
DESCRIPTION:The October club meeting will be held at the Tanner’s shop\, 3431 Shores Road\, Murfreesboro\, TN 37128. Meet and greet starting at 1:00 pm followed by meeting at 2 pm. Officer nominations will be accepted for the 2026-2027 term. Voting will take place at the next meeting.
URL:https://musiccitymoparclub.com/event/october-club-meeting-october-26-2025/
LOCATION:Tanner’s\, 3431 Shores Road\, Murfreesboro\, TN\, 37128\, United States
END:VEVENT
END:VCALENDAR