BEGIN:VCALENDAR
VERSION:2.0
PRODID:-//Welcome to the Music City Mopar Club - ECPv6.15.17.1//NONSGML v1.0//EN
CALSCALE:GREGORIAN
METHOD:PUBLISH
X-WR-CALNAME:Welcome to the Music City Mopar Club
X-ORIGINAL-URL:https://musiccitymoparclub.com
X-WR-CALDESC:Events for Welcome to the Music City Mopar Club
REFRESH-INTERVAL;VALUE=DURATION:PT1H
X-Robots-Tag:noindex
X-PUBLISHED-TTL:PT1H
BEGIN:VTIMEZONE
TZID:America/Chicago
BEGIN:DAYLIGHT
TZOFFSETFROM:-0600
TZOFFSETTO:-0500
TZNAME:CDT
DTSTART:20240310T080000
END:DAYLIGHT
BEGIN:STANDARD
TZOFFSETFROM:-0500
TZOFFSETTO:-0600
TZNAME:CST
DTSTART:20241103T070000
END:STANDARD
BEGIN:DAYLIGHT
TZOFFSETFROM:-0600
TZOFFSETTO:-0500
TZNAME:CDT
DTSTART:20250309T080000
END:DAYLIGHT
BEGIN:STANDARD
TZOFFSETFROM:-0500
TZOFFSETTO:-0600
TZNAME:CST
DTSTART:20251102T070000
END:STANDARD
BEGIN:DAYLIGHT
TZOFFSETFROM:-0600
TZOFFSETTO:-0500
TZNAME:CDT
DTSTART:20260308T080000
END:DAYLIGHT
BEGIN:STANDARD
TZOFFSETFROM:-0500
TZOFFSETTO:-0600
TZNAME:CST
DTSTART:20261101T070000
END:STANDARD
END:VTIMEZONE
BEGIN:VEVENT
DTSTART;VALUE=DATE:20250905
DTEND;VALUE=DATE:20250907
DTSTAMP:20260423T235843
CREATED:20250708T134229Z
LAST-MODIFIED:20250708T134229Z
UID:8168-1757030400-1757203199@musiccitymoparclub.com
SUMMARY:Triple Crown of Rodding\, September 5-6\, 2025 - Nashville Superspeedway
DESCRIPTION:Celebrating Hot Rods\, Customs\, Classics & Muscle Cars thru ’72… AND American Made Trucks thru ’98.\nClick here for webpage and registration.
URL:https://musiccitymoparclub.com/event/triple-crown-of-rodding-september-5-6-2025-nashville-superspeedway/
LOCATION:Nashville Super Speedway\, 4847-F McCrary Rd\, Lebanon\, TN\, United States
END:VEVENT
END:VCALENDAR