BEGIN:VCALENDAR
VERSION:2.0
PRODID:-//Welcome to the Music City Mopar Club - ECPv6.15.17.1//NONSGML v1.0//EN
CALSCALE:GREGORIAN
METHOD:PUBLISH
X-ORIGINAL-URL:https://musiccitymoparclub.com
X-WR-CALDESC:Events for Welcome to the Music City Mopar Club
REFRESH-INTERVAL;VALUE=DURATION:PT1H
X-Robots-Tag:noindex
X-PUBLISHED-TTL:PT1H
BEGIN:VTIMEZONE
TZID:America/Chicago
BEGIN:DAYLIGHT
TZOFFSETFROM:-0600
TZOFFSETTO:-0500
TZNAME:CDT
DTSTART:20230312T080000
END:DAYLIGHT
BEGIN:STANDARD
TZOFFSETFROM:-0500
TZOFFSETTO:-0600
TZNAME:CST
DTSTART:20231105T070000
END:STANDARD
BEGIN:DAYLIGHT
TZOFFSETFROM:-0600
TZOFFSETTO:-0500
TZNAME:CDT
DTSTART:20240310T080000
END:DAYLIGHT
BEGIN:STANDARD
TZOFFSETFROM:-0500
TZOFFSETTO:-0600
TZNAME:CST
DTSTART:20241103T070000
END:STANDARD
BEGIN:DAYLIGHT
TZOFFSETFROM:-0600
TZOFFSETTO:-0500
TZNAME:CDT
DTSTART:20250309T080000
END:DAYLIGHT
BEGIN:STANDARD
TZOFFSETFROM:-0500
TZOFFSETTO:-0600
TZNAME:CST
DTSTART:20251102T070000
END:STANDARD
END:VTIMEZONE
BEGIN:VEVENT
DTSTART;TZID=America/Chicago:20240728T130000
DTEND;TZID=America/Chicago:20240728T150000
DTSTAMP:20260424T222018
CREATED:20240716T152010Z
LAST-MODIFIED:20240716T152320Z
UID:7894-1722171600-1722178800@musiccitymoparclub.com
SUMMARY:July Club Meeting – Lebanon\, TN
DESCRIPTION:We will meet at the A.A.C.A. clubhouse (with air\nconditioning) and we will have our Second annual homemade ice cream\nand dessert meeting. It will be on July 28 at 1:00 followed by our meeting\nat 2:00pm. Those of you who can\, please bring some homemade ice cream\nand for those who can’t\, you need to bring a dessert that goes with ice\ncream. We will be going over final plans for our show\, so I hope to see as\nmany of you as possible at this fun meeting.
URL:https://musiccitymoparclub.com/event/may-club-meeting-lebanon-tn/
LOCATION:AACA Building\, Wilson County Fairgrounds\, Lebanon\, TN\, United States
END:VEVENT
END:VCALENDAR